BEGIN:VCALENDAR
VERSION:2.0
PRODID:-//CEEC CoE - ECPv6.15.20//NONSGML v1.0//EN
CALSCALE:GREGORIAN
METHOD:PUBLISH
X-ORIGINAL-URL:https://ceec-coe.eu
X-WR-CALDESC:Events for CEEC CoE
REFRESH-INTERVAL;VALUE=DURATION:PT1H
X-Robots-Tag:noindex
X-PUBLISHED-TTL:PT1H
BEGIN:VTIMEZONE
TZID:Europe/Paris
BEGIN:DAYLIGHT
TZOFFSETFROM:+0100
TZOFFSETTO:+0200
TZNAME:CEST
DTSTART:20240331T010000
END:DAYLIGHT
BEGIN:STANDARD
TZOFFSETFROM:+0200
TZOFFSETTO:+0100
TZNAME:CET
DTSTART:20241027T010000
END:STANDARD
BEGIN:DAYLIGHT
TZOFFSETFROM:+0100
TZOFFSETTO:+0200
TZNAME:CEST
DTSTART:20250330T010000
END:DAYLIGHT
BEGIN:STANDARD
TZOFFSETFROM:+0200
TZOFFSETTO:+0100
TZNAME:CET
DTSTART:20251026T010000
END:STANDARD
BEGIN:DAYLIGHT
TZOFFSETFROM:+0100
TZOFFSETTO:+0200
TZNAME:CEST
DTSTART:20260329T010000
END:DAYLIGHT
BEGIN:STANDARD
TZOFFSETFROM:+0200
TZOFFSETTO:+0100
TZNAME:CET
DTSTART:20261025T010000
END:STANDARD
END:VTIMEZONE
BEGIN:VEVENT
DTSTART;TZID=Europe/Paris:20250827T164000
DTEND;TZID=Europe/Paris:20250827T170000
DTSTAMP:20260424T022852
CREATED:20250826T091453Z
LAST-MODIFIED:20250826T091453Z
UID:1702-1756312800-1756314000@ceec-coe.eu
SUMMARY:Exploring Flow Fields at Scale: GPU-Accelerated Scientific Visualization for Exascale CFD
DESCRIPTION:Join our own Susanne Malheiros at the WHPC Europa Invited Session to hear about our latest work on Vistle. \nAbstract:\nThis talk presents the ongoing efforts to port Vistle – a software for creating immersive extended reality visualizations of scientific data – to the GPU by integrating the portable visualization toolkit Viskores. The approach is illustrated by sample computational fluid dynamics (CFD) visualizations of the light-house cases from the Center of Excellence in Exascale CFD (CEEC) project.
URL:https://ceec-coe.eu/event/exploring-flow-fields-at-scale-gpu-accelerated-scientific-visualization-for-exascale-cfd/
LOCATION:TUD Dresden University of Technology   Barkhausen-Bau (BAR)\, Georg-Schumann-Str. 13  \, Dresden\, 01069\, Germany
CATEGORIES:Conference,InvitedSession
END:VEVENT
END:VCALENDAR