BEGIN:VCALENDAR
VERSION:2.0
PRODID:-//CEEC CoE - ECPv6.15.20//NONSGML v1.0//EN
CALSCALE:GREGORIAN
METHOD:PUBLISH
X-ORIGINAL-URL:https://ceec-coe.eu
X-WR-CALDESC:Events for CEEC CoE
REFRESH-INTERVAL;VALUE=DURATION:PT1H
X-Robots-Tag:noindex
X-PUBLISHED-TTL:PT1H
BEGIN:VTIMEZONE
TZID:Europe/Paris
BEGIN:DAYLIGHT
TZOFFSETFROM:+0100
TZOFFSETTO:+0200
TZNAME:CEST
DTSTART:20240331T010000
END:DAYLIGHT
BEGIN:STANDARD
TZOFFSETFROM:+0200
TZOFFSETTO:+0100
TZNAME:CET
DTSTART:20241027T010000
END:STANDARD
BEGIN:DAYLIGHT
TZOFFSETFROM:+0100
TZOFFSETTO:+0200
TZNAME:CEST
DTSTART:20250330T010000
END:DAYLIGHT
BEGIN:STANDARD
TZOFFSETFROM:+0200
TZOFFSETTO:+0100
TZNAME:CET
DTSTART:20251026T010000
END:STANDARD
BEGIN:DAYLIGHT
TZOFFSETFROM:+0100
TZOFFSETTO:+0200
TZNAME:CEST
DTSTART:20260329T010000
END:DAYLIGHT
BEGIN:STANDARD
TZOFFSETFROM:+0200
TZOFFSETTO:+0100
TZNAME:CET
DTSTART:20261025T010000
END:STANDARD
END:VTIMEZONE
BEGIN:VEVENT
DTSTART;TZID=Europe/Paris:20250120T123000
DTEND;TZID=Europe/Paris:20250120T125000
DTSTAMP:20260424T125609
CREATED:20250117T150621Z
LAST-MODIFIED:20250117T161323Z
UID:1336-1737376200-1737377400@ceec-coe.eu
SUMMARY:Scientific Visualization for Exascale Simulations
DESCRIPTION:Join our own Susanne Malheiros for her presentation “Scientific Visualization for Exascale Simulations” at HiPEAC25! \nPart of the workshop “From petascale to exascale and beyond: the Centres of Excellence challenge”\, Susanne will present her work on visualizing exascale CFD and multi-physics simulations like our Localized Erosion of Wind Turbine foundations lighthouse case.
URL:https://ceec-coe.eu/event/from-petascale-to-exascale-and-beyond-the-centres-of-excellence-challenge/
LOCATION:Room 9
CATEGORIES:Workshop
END:VEVENT
BEGIN:VEVENT
DTSTART;TZID=Europe/Paris:20250129T100000
DTEND;TZID=Europe/Paris:20250129T110000
DTSTAMP:20260424T125609
CREATED:20241121T105419Z
LAST-MODIFIED:20250205T165517Z
UID:1236-1738144800-1738148400@ceec-coe.eu
SUMMARY:Vistle Part I: An Introduction to Immersive Visualizations of Large-Scale Scientific Data
DESCRIPTION:Save the date for our next webinar! \nThis one-hour webinar introduces the visualization tool Vistle\, which is used to create augmented reality/virtual reality visualizations of large-scale scientific datasets. It presents Vistle’s remote rendering functionality and how Vistle is being ported to GPUs as part of the CEEC project to enable visualization for exascale datasets. \nAgenda\n\nIntroducing Vistle\n\nExamples of Immersive Visualizations\nThe Visualization Pipeline\n\nPreparing Vistle for the Exascale Era\n\nHybrid Remote Rendering\nAdding GPU support with VTK-m
URL:https://ceec-coe.eu/event/vistle-part-i-an-introduction-to-immersive-visualizations-of-large-scale-scientific-data/
CATEGORIES:Webinar
ATTACH;FMTTYPE=image/png:https://ceec-coe.eu/wp-content/uploads/2024/11/VistleEvent-Poster-1-e1736791803437.png
END:VEVENT
END:VCALENDAR