BEGIN:VCALENDAR
VERSION:2.0
PRODID:-//CEEC CoE - ECPv6.15.20//NONSGML v1.0//EN
CALSCALE:GREGORIAN
METHOD:PUBLISH
X-WR-CALNAME:CEEC CoE
X-ORIGINAL-URL:https://ceec-coe.eu
X-WR-CALDESC:Events for CEEC CoE
REFRESH-INTERVAL;VALUE=DURATION:PT1H
X-Robots-Tag:noindex
X-PUBLISHED-TTL:PT1H
BEGIN:VTIMEZONE
TZID:Europe/Paris
BEGIN:DAYLIGHT
TZOFFSETFROM:+0100
TZOFFSETTO:+0200
TZNAME:CEST
DTSTART:20220327T010000
END:DAYLIGHT
BEGIN:STANDARD
TZOFFSETFROM:+0200
TZOFFSETTO:+0100
TZNAME:CET
DTSTART:20221030T010000
END:STANDARD
BEGIN:DAYLIGHT
TZOFFSETFROM:+0100
TZOFFSETTO:+0200
TZNAME:CEST
DTSTART:20230326T010000
END:DAYLIGHT
BEGIN:STANDARD
TZOFFSETFROM:+0200
TZOFFSETTO:+0100
TZNAME:CET
DTSTART:20231029T010000
END:STANDARD
BEGIN:DAYLIGHT
TZOFFSETFROM:+0100
TZOFFSETTO:+0200
TZNAME:CEST
DTSTART:20240331T010000
END:DAYLIGHT
BEGIN:STANDARD
TZOFFSETFROM:+0200
TZOFFSETTO:+0100
TZNAME:CET
DTSTART:20241027T010000
END:STANDARD
END:VTIMEZONE
BEGIN:VEVENT
DTSTART;TZID=Europe/Paris:20231115T203000
DTEND;TZID=Europe/Paris:20231115T210000
DTSTAMP:20260423T053937
CREATED:20231114T155924Z
LAST-MODIFIED:20231114T155924Z
UID:406-1700080200-1700082000@ceec-coe.eu
SUMMARY:Neko – a European code development effort shortlisted for the 2023 ACM Gordon Bell Prize
DESCRIPTION:Come listen to our own Niclas Jansson talk about his work on NEKO\, which has been shortlisted for the 2023 ACM Gordon Bell Prize. We have the great fortune of being able to build on this work during the cEEC project. Learn more in his interview at the LUMI stand (booth 206)!
URL:https://ceec-coe.eu/event/neko-a-european-code-development-effort-shortlisted-for-the-2023-acm-gordon-bell-prize/
CATEGORIES:Conference
END:VEVENT
END:VCALENDAR