BEGIN:VCALENDAR
VERSION:2.0
PRODID:-//CEEC CoE - ECPv6.15.20//NONSGML v1.0//EN
CALSCALE:GREGORIAN
METHOD:PUBLISH
X-WR-CALNAME:CEEC CoE
X-ORIGINAL-URL:https://ceec-coe.eu
X-WR-CALDESC:Events for CEEC CoE
REFRESH-INTERVAL;VALUE=DURATION:PT1H
X-Robots-Tag:noindex
X-PUBLISHED-TTL:PT1H
BEGIN:VTIMEZONE
TZID:Europe/Paris
BEGIN:DAYLIGHT
TZOFFSETFROM:+0100
TZOFFSETTO:+0200
TZNAME:CEST
DTSTART:20230326T010000
END:DAYLIGHT
BEGIN:STANDARD
TZOFFSETFROM:+0200
TZOFFSETTO:+0100
TZNAME:CET
DTSTART:20231029T010000
END:STANDARD
BEGIN:DAYLIGHT
TZOFFSETFROM:+0100
TZOFFSETTO:+0200
TZNAME:CEST
DTSTART:20240331T010000
END:DAYLIGHT
BEGIN:STANDARD
TZOFFSETFROM:+0200
TZOFFSETTO:+0100
TZNAME:CET
DTSTART:20241027T010000
END:STANDARD
BEGIN:DAYLIGHT
TZOFFSETFROM:+0100
TZOFFSETTO:+0200
TZNAME:CEST
DTSTART:20250330T010000
END:DAYLIGHT
BEGIN:STANDARD
TZOFFSETFROM:+0200
TZOFFSETTO:+0100
TZNAME:CET
DTSTART:20251026T010000
END:STANDARD
END:VTIMEZONE
BEGIN:VEVENT
DTSTART;TZID=Europe/Paris:20240604T143000
DTEND;TZID=Europe/Paris:20240604T163000
DTSTAMP:20260422T222121
CREATED:20240430T120841Z
LAST-MODIFIED:20240501T184545Z
UID:839-1717511400-1717518600@ceec-coe.eu
SUMMARY:ECCOMAS MS088 - State-of-the-art Machine Learning Techniques For Computational Fluid Dynamics
DESCRIPTION:Come join our Anna Schwarz\, Jens Keim\, and Andrea Beck for the mini-simposium “State-of-the-art Machine Learning Techniques For Computational Fluid Dynamics” in room 2.01.\nMachine learning (ML) in scientific applications including computational fluid dynamics (CFD) is a growing field of research. However\, ML can be less stable and more prone to errors in CFD because of its complexity relative to e.g. game theory. Thus\, recent research has concentrated on reinforcement learning (RL) or physics-informed methods applied to CFD. Common examples for RL in CFD are flow control\, turbulence modeling and shock capturing. An additional and continuously growing field of research which alleviates the common problems of ML in CFD is physics-informed neural networks (PINNs). In general\, recently\, modified versions of classical PINNs have been proposed to push their limitations and make them more tailored to CFD. With these considerations in mind\, the objective of this minisymposium is to discuss the applicability\, predictive performance and limitations of state-of-the-art ML methods in CFD.
URL:https://ceec-coe.eu/event/eccomas-ms088-state-of-the-art-machine-learning-techniques-for-computational-fluid-dynamics/
LOCATION:Lisbon Congress Centre\, Praça das Indústrias 1\, Lisboa\, 1300-307\, Portugal
CATEGORIES:mini-symposium
END:VEVENT
BEGIN:VEVENT
DTSTART;TZID=Europe/Paris:20240604T170000
DTEND;TZID=Europe/Paris:20240604T190000
DTSTAMP:20260422T222121
CREATED:20240501T181950Z
LAST-MODIFIED:20240501T182319Z
UID:851-1717520400-1717527600@ceec-coe.eu
SUMMARY:Entropy stable subcell shock capturing scheme for high-order discontinuous Galerkin methods on moving meshes
DESCRIPTION:If you’re not in the mini-symposium with Samual\, make sure to see the talk ‘Entropy stable subcell shock capturing scheme for high-order discontinuous Galerkin methods on moving meshes’ presented by Anna Schwarz in room 1.14.
URL:https://ceec-coe.eu/event/851/
LOCATION:Lisbon Congress Centre\, Praça das Indústrias 1\, Lisboa\, 1300-307\, Portugal
CATEGORIES:mini-symposium
END:VEVENT
END:VCALENDAR