BEGIN:VCALENDAR
VERSION:2.0
PRODID:-//CEEC CoE - ECPv6.15.20//NONSGML v1.0//EN
CALSCALE:GREGORIAN
METHOD:PUBLISH
X-WR-CALNAME:CEEC CoE
X-ORIGINAL-URL:https://ceec-coe.eu
X-WR-CALDESC:Events for CEEC CoE
REFRESH-INTERVAL;VALUE=DURATION:PT1H
X-Robots-Tag:noindex
X-PUBLISHED-TTL:PT1H
BEGIN:VTIMEZONE
TZID:Europe/Paris
BEGIN:DAYLIGHT
TZOFFSETFROM:+0100
TZOFFSETTO:+0200
TZNAME:CEST
DTSTART:20230326T010000
END:DAYLIGHT
BEGIN:STANDARD
TZOFFSETFROM:+0200
TZOFFSETTO:+0100
TZNAME:CET
DTSTART:20231029T010000
END:STANDARD
BEGIN:DAYLIGHT
TZOFFSETFROM:+0100
TZOFFSETTO:+0200
TZNAME:CEST
DTSTART:20240331T010000
END:DAYLIGHT
BEGIN:STANDARD
TZOFFSETFROM:+0200
TZOFFSETTO:+0100
TZNAME:CET
DTSTART:20241027T010000
END:STANDARD
BEGIN:DAYLIGHT
TZOFFSETFROM:+0100
TZOFFSETTO:+0200
TZNAME:CEST
DTSTART:20250330T010000
END:DAYLIGHT
BEGIN:STANDARD
TZOFFSETFROM:+0200
TZOFFSETTO:+0100
TZNAME:CET
DTSTART:20251026T010000
END:STANDARD
END:VTIMEZONE
BEGIN:VEVENT
DTSTART;TZID=Europe/Paris:20241215T000000
DTEND;TZID=Europe/Paris:20241215T235959
DTSTAMP:20260422T111722
CREATED:20241024T121556Z
LAST-MODIFIED:20241115T103716Z
UID:1143-1734220800-1734307199@ceec-coe.eu
SUMMARY:Call for Abstracts! High-fidelity CFD with application in ship hydrodynamics
DESCRIPTION:Submit your abstract to our invited session at Marine 2025!! \nThe session titled “High-fidelity CFD with application in ship hydrodynamics” is seeking submissions by December 15th\, 2024. Full details and guidelines for submission are available in  the proposal . \nYou can also check out the invited session’s page on the conference website.
URL:https://ceec-coe.eu/event/call-for-abstracts-high-fidelity-cfd-with-application-in-ship-hydrodyamics/
CATEGORIES:OpenCall
ATTACH;FMTTYPE=image/png:https://ceec-coe.eu/wp-content/uploads/2024/10/ceec_CallForAbstracts-with-numbers_v2-1-e1729843076883.png
END:VEVENT
END:VCALENDAR