BEGIN:VCALENDAR
VERSION:2.0
PRODID:-//CEEC CoE - ECPv6.15.20//NONSGML v1.0//EN
CALSCALE:GREGORIAN
METHOD:PUBLISH
X-WR-CALNAME:CEEC CoE
X-ORIGINAL-URL:https://ceec-coe.eu
X-WR-CALDESC:Events for CEEC CoE
REFRESH-INTERVAL;VALUE=DURATION:PT1H
X-Robots-Tag:noindex
X-PUBLISHED-TTL:PT1H
BEGIN:VTIMEZONE
TZID:Europe/Paris
BEGIN:DAYLIGHT
TZOFFSETFROM:+0100
TZOFFSETTO:+0200
TZNAME:CEST
DTSTART:20220327T010000
END:DAYLIGHT
BEGIN:STANDARD
TZOFFSETFROM:+0200
TZOFFSETTO:+0100
TZNAME:CET
DTSTART:20221030T010000
END:STANDARD
BEGIN:DAYLIGHT
TZOFFSETFROM:+0100
TZOFFSETTO:+0200
TZNAME:CEST
DTSTART:20230326T010000
END:DAYLIGHT
BEGIN:STANDARD
TZOFFSETFROM:+0200
TZOFFSETTO:+0100
TZNAME:CET
DTSTART:20231029T010000
END:STANDARD
BEGIN:DAYLIGHT
TZOFFSETFROM:+0100
TZOFFSETTO:+0200
TZNAME:CEST
DTSTART:20240331T010000
END:DAYLIGHT
BEGIN:STANDARD
TZOFFSETFROM:+0200
TZOFFSETTO:+0100
TZNAME:CET
DTSTART:20241027T010000
END:STANDARD
END:VTIMEZONE
BEGIN:VEVENT
DTSTART;TZID=Europe/Paris:20230824T083000
DTEND;TZID=Europe/Paris:20230824T101000
DTSTAMP:20260423T135853
CREATED:20230913T143738Z
LAST-MODIFIED:20230913T143738Z
UID:369-1692865800-1692871800@ceec-coe.eu
SUMMARY:VPREC to analyze the precision appetites and numerical abnormalities of several proxy applications
DESCRIPTION:The energy consumption constraint for large-scale computing encourages scientists to revise the architecture design of hardware but also applications\, algorithms\, as well as the underlying working/ storage precision. We introduce an approach to address the issue of sustainable computations from the perspective of computer arithmetic tools. We employ the variable precision backend (VPREC) to identify parts of code that can benefit from smaller floating-point formats. Finally\, we show preliminary results on several proxy applications.
URL:https://ceec-coe.eu/event/vprec-to-analyze-the-precision-appetites-and-numerical-abnormalities-of-several-proxy-applications/
CATEGORIES:Conference
END:VEVENT
END:VCALENDAR