BEGIN:VCALENDAR
VERSION:2.0
PRODID:-//CEEC CoE - ECPv6.15.20//NONSGML v1.0//EN
CALSCALE:GREGORIAN
METHOD:PUBLISH
X-ORIGINAL-URL:https://ceec-coe.eu
X-WR-CALDESC:Events for CEEC CoE
REFRESH-INTERVAL;VALUE=DURATION:PT1H
X-Robots-Tag:noindex
X-PUBLISHED-TTL:PT1H
BEGIN:VTIMEZONE
TZID:Europe/Paris
BEGIN:DAYLIGHT
TZOFFSETFROM:+0100
TZOFFSETTO:+0200
TZNAME:CEST
DTSTART:20230326T010000
END:DAYLIGHT
BEGIN:STANDARD
TZOFFSETFROM:+0200
TZOFFSETTO:+0100
TZNAME:CET
DTSTART:20231029T010000
END:STANDARD
BEGIN:DAYLIGHT
TZOFFSETFROM:+0100
TZOFFSETTO:+0200
TZNAME:CEST
DTSTART:20240331T010000
END:DAYLIGHT
BEGIN:STANDARD
TZOFFSETFROM:+0200
TZOFFSETTO:+0100
TZNAME:CET
DTSTART:20241027T010000
END:STANDARD
BEGIN:DAYLIGHT
TZOFFSETFROM:+0100
TZOFFSETTO:+0200
TZNAME:CEST
DTSTART:20250330T010000
END:DAYLIGHT
BEGIN:STANDARD
TZOFFSETFROM:+0200
TZOFFSETTO:+0100
TZNAME:CET
DTSTART:20251026T010000
END:STANDARD
END:VTIMEZONE
BEGIN:VEVENT
DTSTART;TZID=Europe/Paris:20240319T175000
DTEND;TZID=Europe/Paris:20240319T184500
DTSTAMP:20260423T000450
CREATED:20240306T150806Z
LAST-MODIFIED:20240306T153047Z
UID:700-1710870600-1710873900@ceec-coe.eu
SUMMARY:PLENARY: EuroHPC Users: How Are They Exploiting the Current EuroHPC Systems & Will Exploit Future Exascale Capabilities?\,
DESCRIPTION:If you’re attending the EuroHPC Summit Week this month in Antwerp\, make sure to join our Niclas Jansson for a PLENARY\, “EuroHPC Users: How Are They Exploiting the Current EuroHPC Systems & Will Exploit Future Exascale Capabilities?”\n17:15→18:45
URL:https://ceec-coe.eu/event/plenary-eurohpc-users-how-are-they-exploiting-the-current-eurohpc-systems-will-exploit-future-exascale-capabilities/
LOCATION:Flanders Meeting and Convention Centre\, A Room with a ZOO\, Koningin Astridplein 20-26\, Antwerp\, 2018\, Belgium
CATEGORIES:Conference
END:VEVENT
BEGIN:VEVENT
DTSTART;TZID=Europe/Paris:20240325T090000
DTEND;TZID=Europe/Paris:20240325T160000
DTSTAMP:20260423T000450
CREATED:20240305T151107Z
LAST-MODIFIED:20240311T113428Z
UID:680-1711357200-1711382400@ceec-coe.eu
SUMMARY:Second CEEC Community Workshop - Maximizing CFD Code Efficiency: A workshop on Continuous Integration\, Benchmarking\, and Testing in Cluster Environments
DESCRIPTION:CI/CD has revolutionized software development practices by offering streamlined workflows that enhance productivity\, reliability\, and agility in delivering software products. When it comes to massive codes designed for performing physics simulations\, cluster computing environments represent a cornerstone of modern computational infrastructure\, offering unparalleled capabilities for parallel processing and data-intensive applications. Continuous integration (CI)\, benchmarking\, and testing play pivotal roles in optimizing the performance of applications deployed in cluster settings. This workshop delves into the adaptation of CI/CD methodologies to HPC environments. This workshop aims to equip participants with the knowledge and skills to leverage CI/CD practices effectively on a test cluster and then visualise the results. By the end of the workshop\, participants will be equipped with the expertise to implement CI/CD workflows effectively on supercomputer machines. \n\nParticipation is free! \nAttendees may bring their own code (git repo) or use a test code provided by the organizers. \nAttendance is also hybrid\, either on-site or online.\n\n \n Register Here!\n \nAgenda\n\n9:00 – 9:15: Opening\n9:15 – 10:45: General introduction to CI/CD and cluster access\n10:45 – 11:00: break\n11:00 – 12:15 – setting up a simple test repository \n12:15 – 13:00: lunch break\n13:00 – 16:00:  hands-on session on CB using test cluster and Visualization 
URL:https://ceec-coe.eu/event/second-ceec-community-workshopmaximizing-cfd-code-efficiency/
LOCATION:Friedrich-Alexander-Universität (FAU)\, Erlangen-Nürnberg\, Germany\, Schloßplatz 4\, Erlangen\, Bayern\, 91054\, Germany
CATEGORIES:Workshop
ATTACH;FMTTYPE=image/png:https://ceec-coe.eu/wp-content/uploads/2024/03/PosterCEEC_2nd-Workshop.png
END:VEVENT
END:VCALENDAR