BEGIN:VCALENDAR
VERSION:2.0
PRODID:-//CEEC CoE - ECPv6.15.20//NONSGML v1.0//EN
CALSCALE:GREGORIAN
METHOD:PUBLISH
X-WR-CALNAME:CEEC CoE
X-ORIGINAL-URL:https://ceec-coe.eu
X-WR-CALDESC:Events for CEEC CoE
REFRESH-INTERVAL;VALUE=DURATION:PT1H
X-Robots-Tag:noindex
X-PUBLISHED-TTL:PT1H
BEGIN:VTIMEZONE
TZID:Europe/Paris
BEGIN:DAYLIGHT
TZOFFSETFROM:+0100
TZOFFSETTO:+0200
TZNAME:CEST
DTSTART:20220327T010000
END:DAYLIGHT
BEGIN:STANDARD
TZOFFSETFROM:+0200
TZOFFSETTO:+0100
TZNAME:CET
DTSTART:20221030T010000
END:STANDARD
BEGIN:DAYLIGHT
TZOFFSETFROM:+0100
TZOFFSETTO:+0200
TZNAME:CEST
DTSTART:20230326T010000
END:DAYLIGHT
BEGIN:STANDARD
TZOFFSETFROM:+0200
TZOFFSETTO:+0100
TZNAME:CET
DTSTART:20231029T010000
END:STANDARD
BEGIN:DAYLIGHT
TZOFFSETFROM:+0100
TZOFFSETTO:+0200
TZNAME:CEST
DTSTART:20240331T010000
END:DAYLIGHT
BEGIN:STANDARD
TZOFFSETFROM:+0200
TZOFFSETTO:+0100
TZNAME:CET
DTSTART:20241027T010000
END:STANDARD
END:VTIMEZONE
BEGIN:VEVENT
DTSTART;TZID=Europe/Paris:20230524T144000
DTEND;TZID=Europe/Paris:20230524T150000
DTSTAMP:20260420T155919
CREATED:20230512T145139Z
LAST-MODIFIED:20230512T150614Z
UID:266-1684939200-1684940400@ceec-coe.eu
SUMMARY:Reliable and sustainable computations: An application-driven approach
DESCRIPTION:In this talk\, Roman Iakymchuk presents his work on accuracy and reproducibility assuring strategies for parallel iterative solvers that may not hold due to the non-associativity of floating-point operations. These strategies primarily rely on guarding every bit of result until final rounding\, hence they can be costly. The energy consumption constraint for large-scale computing encourages scientists to revise the architecture design of hardware but also applications\, algorithms\, as well as the underlying working/ storage precision. The main aim is to make the computing cost sustainable and apply the lagom principle (”not too much\, not too little\, the right amount”)\, especially when it comes to working/ storage precision. Thus\, he will introduce an approach to address the issue of sustainable\, but still reliable\, computations from the perspective of computer arithmetic tools. Before lowering precision\, one must ensure that the simulation is numerically correct\, e.g. by relying on alternative floating-point models/ rounding to pinpoint numerical bugs and to estimate the accuracy. We employ VerifiCarlo and its variable precision backend to identify the parts of the code that benefit from smaller floating-point formats. Finally\, we show preliminary results on proxy applications.
URL:https://ceec-coe.eu/event/reliable-and-sustainable-computations-an-application-driven-approach/
CATEGORIES:Conference
END:VEVENT
BEGIN:VEVENT
DTSTART;TZID=Europe/Paris:20230524T114500
DTEND;TZID=Europe/Paris:20230524T121500
DTSTAMP:20260420T155919
CREATED:20230510T143247Z
LAST-MODIFIED:20230510T143513Z
UID:261-1684928700-1684930500@ceec-coe.eu
SUMMARY:Introducing CEEC at ISC23
DESCRIPTION:  \nCome learn about CEEC at the European HPC Joint Undertaking booth at ISC23! We’ll give a quick overview of the project and be eager to answer all your questions about CFD\, our lighthouse cases\, and how our work can help address grand challenges.
URL:https://ceec-coe.eu/event/introducing-ceec-at-isc23/
END:VEVENT
BEGIN:VEVENT
DTSTART;VALUE=DATE:20230521
DTEND;VALUE=DATE:20230526
DTSTAMP:20260420T155919
CREATED:20230427T173718Z
LAST-MODIFIED:20230510T143910Z
UID:213-1684627200-1685059199@ceec-coe.eu
SUMMARY:ISC High Performance 2023
DESCRIPTION:Come visit us at the EuroHPC Joint Undertaking booth B201 at ISC! We will be there all week to answer your questions about our goals\, future work\, and its potential impact on the field of computational fluid dynamics. Once again in Hamburg\, the annual ISC event is sure to offer something for every person interested in HPC\, machine learning\, data analytics\, and quantum computing.
URL:https://ceec-coe.eu/event/isc-high-performance-2023/
CATEGORIES:Conference
END:VEVENT
BEGIN:VEVENT
DTSTART;TZID=Europe/Paris:20230511T140000
DTEND;TZID=Europe/Paris:20230511T143000
DTSTAMP:20260420T155919
CREATED:20230427T181211Z
LAST-MODIFIED:20230531T174517Z
UID:216-1683813600-1683815400@ceec-coe.eu
SUMMARY:"Scalable High-Fidelity Simulation of Turbulence With Neko Using Accelerators"  CUG 2023 “Sustainable Exascale”
DESCRIPTION:It’s time again for the annual Cray User Group (CUG) conference: this time in Finland! We’ll be contributing to the discussions on how to best use Cray and HPE supercomputers with a paper titled\, “Scalable High-Fidelity Simulation of Turbulence With Neko Using Accelerators”. You will also be able to read the paper on our publication page after the conference.
URL:https://ceec-coe.eu/event/cug-2023-sustainable-exascale/
LOCATION:CSCT Center for Science Ltd (CSC Finland)\, Helsinki\, Finland
END:VEVENT
END:VCALENDAR