BEGIN:VCALENDAR
VERSION:2.0
PRODID:-//CEEC CoE - ECPv6.15.20//NONSGML v1.0//EN
CALSCALE:GREGORIAN
METHOD:PUBLISH
X-ORIGINAL-URL:https://ceec-coe.eu
X-WR-CALDESC:Events for CEEC CoE
REFRESH-INTERVAL;VALUE=DURATION:PT1H
X-Robots-Tag:noindex
X-PUBLISHED-TTL:PT1H
BEGIN:VTIMEZONE
TZID:Europe/Paris
BEGIN:DAYLIGHT
TZOFFSETFROM:+0100
TZOFFSETTO:+0200
TZNAME:CEST
DTSTART:20250330T010000
END:DAYLIGHT
BEGIN:STANDARD
TZOFFSETFROM:+0200
TZOFFSETTO:+0100
TZNAME:CET
DTSTART:20251026T010000
END:STANDARD
BEGIN:DAYLIGHT
TZOFFSETFROM:+0100
TZOFFSETTO:+0200
TZNAME:CEST
DTSTART:20260329T010000
END:DAYLIGHT
BEGIN:STANDARD
TZOFFSETFROM:+0200
TZOFFSETTO:+0100
TZNAME:CET
DTSTART:20261025T010000
END:STANDARD
BEGIN:DAYLIGHT
TZOFFSETFROM:+0100
TZOFFSETTO:+0200
TZNAME:CEST
DTSTART:20270328T010000
END:DAYLIGHT
BEGIN:STANDARD
TZOFFSETFROM:+0200
TZOFFSETTO:+0100
TZNAME:CET
DTSTART:20271031T010000
END:STANDARD
END:VTIMEZONE
BEGIN:VEVENT
DTSTART;TZID=Europe/Paris:20260429T140000
DTEND;TZID=Europe/Paris:20260429T150000
DTSTAMP:20260419T231728
CREATED:20260401T074420Z
LAST-MODIFIED:20260401T074420Z
UID:2024-1777471200-1777474800@ceec-coe.eu
SUMMARY:Flagship scientific applications on a European RISC-V long-vector accelerator: Lessons learned
DESCRIPTION:As Europe accelerates its efforts in chip sovereignty\, scientific applications need to be ported to and evaluated on emerging prototypes\, assessing their performance as well as the technology readiness of the new hardware platforms. In this talk\, we will share the experiences and lessons learned when porting applications from CEEC and other Centers of Excellence to the long-vector RISC-V accelerators from the EPI and EUPILOT projects across different domains and applications.\nAttendees will learn code optimization techniques\, common performance pitfalls\, and evaluation methods for long-vector architectures\, which they can apply to their own applications and code bases in order to improve performance on these novel hardware platforms. \n\n	Notice: JavaScript is required for this content.
URL:https://ceec-coe.eu/event/flagship-scientific-applications-on-a-european-risc-v-long-vector-accelerator-lessons-learned/
LOCATION:Online
CATEGORIES:Webinar
ATTACH;FMTTYPE=image/png:https://ceec-coe.eu/wp-content/uploads/2026/04/RISC-V2PosterDraft_V2-e1775029249290.png
END:VEVENT
END:VCALENDAR