BEGIN:VCALENDAR
VERSION:2.0
PRODID:-//CEEC CoE - ECPv6.15.20//NONSGML v1.0//EN
CALSCALE:GREGORIAN
METHOD:PUBLISH
X-WR-CALNAME:CEEC CoE
X-ORIGINAL-URL:https://ceec-coe.eu
X-WR-CALDESC:Events for CEEC CoE
REFRESH-INTERVAL;VALUE=DURATION:PT1H
X-Robots-Tag:noindex
X-PUBLISHED-TTL:PT1H
BEGIN:VTIMEZONE
TZID:Europe/Paris
BEGIN:DAYLIGHT
TZOFFSETFROM:+0100
TZOFFSETTO:+0200
TZNAME:CEST
DTSTART:20230326T010000
END:DAYLIGHT
BEGIN:STANDARD
TZOFFSETFROM:+0200
TZOFFSETTO:+0100
TZNAME:CET
DTSTART:20231029T010000
END:STANDARD
BEGIN:DAYLIGHT
TZOFFSETFROM:+0100
TZOFFSETTO:+0200
TZNAME:CEST
DTSTART:20240331T010000
END:DAYLIGHT
BEGIN:STANDARD
TZOFFSETFROM:+0200
TZOFFSETTO:+0100
TZNAME:CET
DTSTART:20241027T010000
END:STANDARD
BEGIN:DAYLIGHT
TZOFFSETFROM:+0100
TZOFFSETTO:+0200
TZNAME:CEST
DTSTART:20250330T010000
END:DAYLIGHT
BEGIN:STANDARD
TZOFFSETFROM:+0200
TZOFFSETTO:+0100
TZNAME:CET
DTSTART:20251026T010000
END:STANDARD
END:VTIMEZONE
BEGIN:VEVENT
DTSTART;TZID=Europe/Paris:20241030T110000
DTEND;TZID=Europe/Paris:20241030T120000
DTSTAMP:20260422T072612
CREATED:20241018T092318Z
LAST-MODIFIED:20241022T131330Z
UID:1129-1730286000-1730289600@ceec-coe.eu
SUMMARY:FLEXI/GALÆXI: Open-Source Solver for Multiscale Flows
DESCRIPTION:Join us for the 11th CASTIEL Code of the Month to learn about FLEXI/GALÆXI! \nIn the field of computational fluid dynamics (CFD)\, high-order methods have reached a certain level of maturity for the solution of unsteady multiscale problems\, of which turbulence is a prime example. For these types of problems\, high-order schemes have proven to be efficient alternatives to more traditional numerical schemes. Among the high-order discretization variants\, the discontinuous Galerkin method offers a collection of features which increased its popularity. In order to take full advantage of the potential benefits of these methods\, all steps in the simulation chain\, from pre- to post-processing\, must be designed and executed with high-order in mind.\nIn this talk\, we will present the open-source CFD frameworks FLEXI/GALÆXI\, which are continuously developed by the Numerics Research Group of Prof. Andrea Beck at the Institute of Aerodynamics and Gas Dynamics at the University of Stuttgart. Both solvers provide a high-order consistent simulation tool chain for solving the compressible Navier–Stokes equations in a highly efficient\, accurate and robust manner in a high performance computing setting either on CPU-based systems (FLEXI) or GPUaccelerated clusters (GALÆXI). The talk commences with a description of the numerical algorithms and implementation details\, accompanied by an outline of the features and capabilities of all parts of the framework. In addition to these technical details\, we also discuss the significant issues of code stability\, reproducibility and user-friendliness. The advantages gained by developing an open-source framework are addressed\, with a particular focus on usability for the open-source community. We conclude with application examples that demonstrate the wide range of use cases and the extensibility of FLEXI\, as well as an overview of current and future developments. \nRegistration:\nhttps://forms.office.com/e/P4Kr9xweRN
URL:https://ceec-coe.eu/event/flexi-galaexi-open-source-solver-for-multiscale-flows/
CATEGORIES:Webinar
ATTACH;FMTTYPE=image/png:https://ceec-coe.eu/wp-content/uploads/2024/10/CEEC-FLEXI-PublicCodeofTheMonth_graphs2-e1729602796118.png
END:VEVENT
END:VCALENDAR