BEGIN:VCALENDAR
VERSION:2.0
PRODID:-//CEEC CoE - ECPv6.15.20//NONSGML v1.0//EN
CALSCALE:GREGORIAN
METHOD:PUBLISH
X-WR-CALNAME:CEEC CoE
X-ORIGINAL-URL:https://ceec-coe.eu
X-WR-CALDESC:Events for CEEC CoE
REFRESH-INTERVAL;VALUE=DURATION:PT1H
X-Robots-Tag:noindex
X-PUBLISHED-TTL:PT1H
BEGIN:VTIMEZONE
TZID:Europe/Paris
BEGIN:DAYLIGHT
TZOFFSETFROM:+0100
TZOFFSETTO:+0200
TZNAME:CEST
DTSTART:20230326T010000
END:DAYLIGHT
BEGIN:STANDARD
TZOFFSETFROM:+0200
TZOFFSETTO:+0100
TZNAME:CET
DTSTART:20231029T010000
END:STANDARD
BEGIN:DAYLIGHT
TZOFFSETFROM:+0100
TZOFFSETTO:+0200
TZNAME:CEST
DTSTART:20240331T010000
END:DAYLIGHT
BEGIN:STANDARD
TZOFFSETFROM:+0200
TZOFFSETTO:+0100
TZNAME:CET
DTSTART:20241027T010000
END:STANDARD
BEGIN:DAYLIGHT
TZOFFSETFROM:+0100
TZOFFSETTO:+0200
TZNAME:CEST
DTSTART:20250330T010000
END:DAYLIGHT
BEGIN:STANDARD
TZOFFSETFROM:+0200
TZOFFSETTO:+0100
TZNAME:CET
DTSTART:20251026T010000
END:STANDARD
END:VTIMEZONE
BEGIN:VEVENT
DTSTART;TZID=Europe/Paris:20241216T110000
DTEND;TZID=Europe/Paris:20241216T120000
DTSTAMP:20260422T042942
CREATED:20241115T145729Z
LAST-MODIFIED:20241219T185747Z
UID:1203-1734346800-1734350400@ceec-coe.eu
SUMMARY:Programming complex workflows with PyCOMPSs
DESCRIPTION:Programming large-scale systems poses several challenges to scientific application developers. Systems are growing in complexity\, and concurrency is not the only difficulty that programmers face. They also contend with the distribution of memory spaces\, complex architectures\, new storage technology\, etc. Task-based programming models have proven to be a good alternative to traditional programming models for HPC. PyCOMPSs is a pioneering approach to task-based programming in Python that enables codes to be executed in distributed computing platforms. In particular\, PyCOMPSs supports different types of tasks\, such as parallel simulations (MPI)\, artificial intelligence\, or data analytics. This webinar will give an overview of PyCOMPSs illustrated with examples in development at BSC that include CFD simulations with AI training or real-time visualization in the same workflow.
URL:https://ceec-coe.eu/event/programming-complex-workflows-with-pycompss/
LOCATION:Online
CATEGORIES:Webinar
ATTACH;FMTTYPE=image/png:https://ceec-coe.eu/wp-content/uploads/2024/11/Event-Poster-e1731686061722.png
END:VEVENT
END:VCALENDAR