BEGIN:VCALENDAR
VERSION:2.0
PRODID:-//CEEC CoE - ECPv6.15.20//NONSGML v1.0//EN
CALSCALE:GREGORIAN
METHOD:PUBLISH
X-WR-CALNAME:CEEC CoE
X-ORIGINAL-URL:https://ceec-coe.eu
X-WR-CALDESC:Events for CEEC CoE
REFRESH-INTERVAL;VALUE=DURATION:PT1H
X-Robots-Tag:noindex
X-PUBLISHED-TTL:PT1H
BEGIN:VTIMEZONE
TZID:Europe/Paris
BEGIN:DAYLIGHT
TZOFFSETFROM:+0100
TZOFFSETTO:+0200
TZNAME:CEST
DTSTART:20230326T010000
END:DAYLIGHT
BEGIN:STANDARD
TZOFFSETFROM:+0200
TZOFFSETTO:+0100
TZNAME:CET
DTSTART:20231029T010000
END:STANDARD
BEGIN:DAYLIGHT
TZOFFSETFROM:+0100
TZOFFSETTO:+0200
TZNAME:CEST
DTSTART:20240331T010000
END:DAYLIGHT
BEGIN:STANDARD
TZOFFSETFROM:+0200
TZOFFSETTO:+0100
TZNAME:CET
DTSTART:20241027T010000
END:STANDARD
BEGIN:DAYLIGHT
TZOFFSETFROM:+0100
TZOFFSETTO:+0200
TZNAME:CEST
DTSTART:20250330T010000
END:DAYLIGHT
BEGIN:STANDARD
TZOFFSETFROM:+0200
TZOFFSETTO:+0100
TZNAME:CET
DTSTART:20251026T010000
END:STANDARD
END:VTIMEZONE
BEGIN:VEVENT
DTSTART;TZID=Europe/Paris:20240902T000000
DTEND;TZID=Europe/Paris:20240903T235959
DTSTAMP:20260424T185847
CREATED:20240605T090813Z
LAST-MODIFIED:20240903T081621Z
UID:921-1725235200-1725407999@ceec-coe.eu
SUMMARY:Mini-Symposium 4: Modernizing CFD: Exploring CI/CD for Improved Software Development Life Cycle
DESCRIPTION:Join CEEC at the 35th Parallel CFD International Conference 2024 this fall in Bonn\, Germany.  \nIn the Mini-Symposium 4: Modernizing CFD: Exploring CI/CD for Improved Software Development Life Cycle\, CEEC will be joined by sister European Centers of Excellence EXCELLERAT P2\, EOCOE3\, and HIDALGO 2 supported by the coordination activity CASTIEL 2. This symposium will focus on the role of Continuous Integration/Continuous Deployment (CI/CD) in guaranteeing CFD simulation applications’ stability\, reproducibility\, portability\, and performance.
URL:https://ceec-coe.eu/event/mini-symposium-4-modernizing-cfd-exploring-ci-cd-for-improved-software-development-life-cycle/
LOCATION:Universitätsclub Bonn e.V.\, Konviktstr.9\, Bonn\, 53113\, Germany
CATEGORIES:mini-symposium
END:VEVENT
BEGIN:VEVENT
DTSTART;TZID=Europe/Paris:20240903T165000
DTEND;TZID=Europe/Paris:20240903T171000
DTSTAMP:20260424T185847
CREATED:20240903T082639Z
LAST-MODIFIED:20240903T082759Z
UID:1066-1725382200-1725383400@ceec-coe.eu
SUMMARY:A continuous benchmarking pipeline for performance engineering on different architectures for the waLBerla framework
DESCRIPTION:Come listen to our own Kajol Kulkarni presenting in mini-symposium 4 at parCFD on our work with benchmarking of waLBerla.
URL:https://ceec-coe.eu/event/a-continuous-benchmarking-pipeline-for-performance-engineering-on-different-architectures-for-the-walberla-framework/
LOCATION:Universitätsclub Bonn e.V.\, Konviktstr.9\, Bonn\, 53113\, Germany
CATEGORIES:mini-symposium
END:VEVENT
BEGIN:VEVENT
DTSTART;TZID=Europe/Paris:20240903T181500
DTEND;TZID=Europe/Paris:20240903T190000
DTSTAMP:20260424T185847
CREATED:20240605T092248Z
LAST-MODIFIED:20240903T081225Z
UID:923-1725387300-1725390000@ceec-coe.eu
SUMMARY:Keynote Lecture at parCFD
DESCRIPTION:Join our own Niclas Jansson for his keynote lecture as an invited speaker at the 35th Parallel CFD International Conference 2024 in Bonn\, Germany.
URL:https://ceec-coe.eu/event/keynote-lecture-at-parcfd/
LOCATION:Universitätsclub Bonn e.V.\, Konviktstr.9\, Bonn\, 53113\, Germany
CATEGORIES:Conference
END:VEVENT
BEGIN:VEVENT
DTSTART;TZID=Europe/Paris:20240909T120500
DTEND;TZID=Europe/Paris:20240909T122500
DTSTAMP:20260424T185847
CREATED:20240905T131604Z
LAST-MODIFIED:20240905T135557Z
UID:1077-1725883500-1725884700@ceec-coe.eu
SUMMARY:'Enabling mixed-precision with the help of tools: A Nekbone case study' at PPAM24
DESCRIPTION:If you’re going to PPAM24 September 8 – 11 in Ostrava\, Czechia\, make sure to check out the talk by Yanxiang Chen from our partner UMU on their progress implementing and optimizing mixed precision in Nekbone toward its integration in Neko and NekRS. The accompanying paper is also available as a pre-print online: https://arxiv.org/pdf/2405.11065
URL:https://ceec-coe.eu/event/enabling-mixed-precision-with-the-help-of-tools-a-nekbone-case-study-at-ppam24/
LOCATION:Ostrava\, Czechia\, Ostrava\, Czech Republic
CATEGORIES:Conference
END:VEVENT
END:VCALENDAR