BEGIN:VCALENDAR
VERSION:2.0
PRODID:-//CEEC CoE - ECPv6.15.20//NONSGML v1.0//EN
CALSCALE:GREGORIAN
METHOD:PUBLISH
X-ORIGINAL-URL:https://ceec-coe.eu
X-WR-CALDESC:Events for CEEC CoE
REFRESH-INTERVAL;VALUE=DURATION:PT1H
X-Robots-Tag:noindex
X-PUBLISHED-TTL:PT1H
BEGIN:VTIMEZONE
TZID:Europe/Paris
BEGIN:DAYLIGHT
TZOFFSETFROM:+0100
TZOFFSETTO:+0200
TZNAME:CEST
DTSTART:20240331T010000
END:DAYLIGHT
BEGIN:STANDARD
TZOFFSETFROM:+0200
TZOFFSETTO:+0100
TZNAME:CET
DTSTART:20241027T010000
END:STANDARD
BEGIN:DAYLIGHT
TZOFFSETFROM:+0100
TZOFFSETTO:+0200
TZNAME:CEST
DTSTART:20250330T010000
END:DAYLIGHT
BEGIN:STANDARD
TZOFFSETFROM:+0200
TZOFFSETTO:+0100
TZNAME:CET
DTSTART:20251026T010000
END:STANDARD
BEGIN:DAYLIGHT
TZOFFSETFROM:+0100
TZOFFSETTO:+0200
TZNAME:CEST
DTSTART:20260329T010000
END:DAYLIGHT
BEGIN:STANDARD
TZOFFSETFROM:+0200
TZOFFSETTO:+0100
TZNAME:CET
DTSTART:20261025T010000
END:STANDARD
END:VTIMEZONE
BEGIN:VEVENT
DTSTART;TZID=Europe/Paris:20251209T140000
DTEND;TZID=Europe/Paris:20251209T150000
DTSTAMP:20260420T033120
CREATED:20251020T095113Z
LAST-MODIFIED:20251209T100854Z
UID:1848-1765288800-1765292400@ceec-coe.eu
SUMMARY:Performance Portability for Fortran CFD Software with GALÆXI
DESCRIPTION:With GPU acceleration now ubiquitous in HPC\, there is more pressure than ever to port existing simulation software to leverage the new hardware. There are many GPU programming models available\, but they often have limited\, or completely lack\, support for Fortran. This leads owners of existing Fortran scientific codes to struggle with porting their software to multiple computing architectures. One option is to turn to C++ to achieve the greatest performance portability.\nThis webinar is a guide for the process of taking a Fortran CFD code and porting it to GPUs using CUDA/HIP C++. The basics of GPU hardware and programming will be covered\, to serve as a rough guide for adapting algorithms and data structures. The high-order discontinuous Galerkin spectral element CFD code GALÆXI is then presented. The important design questions and porting requirements in GALÆXI are discussed\, which researchers must answer and understand to effectively port their own Fortran codes with CUDA/HIP C++.
URL:https://ceec-coe.eu/event/performance-portability-for-fortran-cfd-software-with-galaexi/
LOCATION:Online
CATEGORIES:Webinar
ATTACH;FMTTYPE=image/png:https://ceec-coe.eu/wp-content/uploads/2025/11/FLEXI2025Poster-e1764062226596.png
END:VEVENT
END:VCALENDAR